BEGIN:VCALENDAR
VERSION:2.0
PRODID:-//Bonsai Brewery - ECPv6.15.20//NONSGML v1.0//EN
CALSCALE:GREGORIAN
METHOD:PUBLISH
X-ORIGINAL-URL:https://bonsaibrewery.com
X-WR-CALDESC:Events for Bonsai Brewery
REFRESH-INTERVAL;VALUE=DURATION:PT1H
X-Robots-Tag:noindex
X-PUBLISHED-TTL:PT1H
BEGIN:VTIMEZONE
TZID:America/Denver
BEGIN:DAYLIGHT
TZOFFSETFROM:-0700
TZOFFSETTO:-0600
TZNAME:MDT
DTSTART:20260308T090000
END:DAYLIGHT
BEGIN:STANDARD
TZOFFSETFROM:-0600
TZOFFSETTO:-0700
TZNAME:MST
DTSTART:20261101T080000
END:STANDARD
BEGIN:DAYLIGHT
TZOFFSETFROM:-0700
TZOFFSETTO:-0600
TZNAME:MDT
DTSTART:20270314T090000
END:DAYLIGHT
BEGIN:STANDARD
TZOFFSETFROM:-0600
TZOFFSETTO:-0700
TZNAME:MST
DTSTART:20271107T080000
END:STANDARD
BEGIN:DAYLIGHT
TZOFFSETFROM:-0700
TZOFFSETTO:-0600
TZNAME:MDT
DTSTART:20280312T090000
END:DAYLIGHT
BEGIN:STANDARD
TZOFFSETFROM:-0600
TZOFFSETTO:-0700
TZNAME:MST
DTSTART:20281105T080000
END:STANDARD
BEGIN:DAYLIGHT
TZOFFSETFROM:-0700
TZOFFSETTO:-0600
TZNAME:MDT
DTSTART:20290311T090000
END:DAYLIGHT
BEGIN:STANDARD
TZOFFSETFROM:-0600
TZOFFSETTO:-0700
TZNAME:MST
DTSTART:20291104T080000
END:STANDARD
END:VTIMEZONE
BEGIN:VEVENT
DTSTART;TZID=America/Denver:20271208T180000
DTEND;TZID=America/Denver:20271208T200000
DTSTAMP:20260423T091127
CREATED:20260414T173200Z
LAST-MODIFIED:20260414T173305Z
UID:10000105-1828288800-1828296000@bonsaibrewery.com
SUMMARY:Trivia
DESCRIPTION:
URL:https://bonsaibrewery.com/event/trivia-every-wednesday/2027-12-08/
LOCATION:Bonsai Brewery\, 549 Wisconsin Ave\, Whitefish\, MT\, United States\, 59937\, Whitefish\, MT\, 59937\, United States
ATTACH;FMTTYPE=image/jpeg:https://bonsaibrewery.com/wp-content/uploads/2026/04/trivia.jpg
END:VEVENT
BEGIN:VEVENT
DTSTART;TZID=America/Denver:20271215T180000
DTEND;TZID=America/Denver:20271215T200000
DTSTAMP:20260423T091127
CREATED:20260414T173200Z
LAST-MODIFIED:20260414T173305Z
UID:10000106-1828893600-1828900800@bonsaibrewery.com
SUMMARY:Trivia
DESCRIPTION:
URL:https://bonsaibrewery.com/event/trivia-every-wednesday/2027-12-15/
LOCATION:Bonsai Brewery\, 549 Wisconsin Ave\, Whitefish\, MT\, United States\, 59937\, Whitefish\, MT\, 59937\, United States
ATTACH;FMTTYPE=image/jpeg:https://bonsaibrewery.com/wp-content/uploads/2026/04/trivia.jpg
END:VEVENT
BEGIN:VEVENT
DTSTART;TZID=America/Denver:20271222T180000
DTEND;TZID=America/Denver:20271222T200000
DTSTAMP:20260423T091127
CREATED:20260414T173200Z
LAST-MODIFIED:20260414T173305Z
UID:10000107-1829498400-1829505600@bonsaibrewery.com
SUMMARY:Trivia
DESCRIPTION:
URL:https://bonsaibrewery.com/event/trivia-every-wednesday/2027-12-22/
LOCATION:Bonsai Brewery\, 549 Wisconsin Ave\, Whitefish\, MT\, United States\, 59937\, Whitefish\, MT\, 59937\, United States
ATTACH;FMTTYPE=image/jpeg:https://bonsaibrewery.com/wp-content/uploads/2026/04/trivia.jpg
END:VEVENT
BEGIN:VEVENT
DTSTART;TZID=America/Denver:20271229T180000
DTEND;TZID=America/Denver:20271229T200000
DTSTAMP:20260423T091127
CREATED:20260414T173200Z
LAST-MODIFIED:20260414T173305Z
UID:10000108-1830103200-1830110400@bonsaibrewery.com
SUMMARY:Trivia
DESCRIPTION:
URL:https://bonsaibrewery.com/event/trivia-every-wednesday/2027-12-29/
LOCATION:Bonsai Brewery\, 549 Wisconsin Ave\, Whitefish\, MT\, United States\, 59937\, Whitefish\, MT\, 59937\, United States
ATTACH;FMTTYPE=image/jpeg:https://bonsaibrewery.com/wp-content/uploads/2026/04/trivia.jpg
END:VEVENT
BEGIN:VEVENT
DTSTART;TZID=America/Denver:20280105T180000
DTEND;TZID=America/Denver:20280105T200000
DTSTAMP:20260423T091127
CREATED:20260414T173200Z
LAST-MODIFIED:20260414T173305Z
UID:10000109-1830708000-1830715200@bonsaibrewery.com
SUMMARY:Trivia
DESCRIPTION:
URL:https://bonsaibrewery.com/event/trivia-every-wednesday/2028-01-05/
LOCATION:Bonsai Brewery\, 549 Wisconsin Ave\, Whitefish\, MT\, United States\, 59937\, Whitefish\, MT\, 59937\, United States
ATTACH;FMTTYPE=image/jpeg:https://bonsaibrewery.com/wp-content/uploads/2026/04/trivia.jpg
END:VEVENT
BEGIN:VEVENT
DTSTART;TZID=America/Denver:20280112T180000
DTEND;TZID=America/Denver:20280112T200000
DTSTAMP:20260423T091127
CREATED:20260414T173200Z
LAST-MODIFIED:20260414T173305Z
UID:10000110-1831312800-1831320000@bonsaibrewery.com
SUMMARY:Trivia
DESCRIPTION:
URL:https://bonsaibrewery.com/event/trivia-every-wednesday/2028-01-12/
LOCATION:Bonsai Brewery\, 549 Wisconsin Ave\, Whitefish\, MT\, United States\, 59937\, Whitefish\, MT\, 59937\, United States
ATTACH;FMTTYPE=image/jpeg:https://bonsaibrewery.com/wp-content/uploads/2026/04/trivia.jpg
END:VEVENT
BEGIN:VEVENT
DTSTART;TZID=America/Denver:20280119T180000
DTEND;TZID=America/Denver:20280119T200000
DTSTAMP:20260423T091127
CREATED:20260414T173200Z
LAST-MODIFIED:20260414T173305Z
UID:10000111-1831917600-1831924800@bonsaibrewery.com
SUMMARY:Trivia
DESCRIPTION:
URL:https://bonsaibrewery.com/event/trivia-every-wednesday/2028-01-19/
LOCATION:Bonsai Brewery\, 549 Wisconsin Ave\, Whitefish\, MT\, United States\, 59937\, Whitefish\, MT\, 59937\, United States
ATTACH;FMTTYPE=image/jpeg:https://bonsaibrewery.com/wp-content/uploads/2026/04/trivia.jpg
END:VEVENT
BEGIN:VEVENT
DTSTART;TZID=America/Denver:20280126T180000
DTEND;TZID=America/Denver:20280126T200000
DTSTAMP:20260423T091127
CREATED:20260414T173200Z
LAST-MODIFIED:20260414T173305Z
UID:10000112-1832522400-1832529600@bonsaibrewery.com
SUMMARY:Trivia
DESCRIPTION:
URL:https://bonsaibrewery.com/event/trivia-every-wednesday/2028-01-26/
LOCATION:Bonsai Brewery\, 549 Wisconsin Ave\, Whitefish\, MT\, United States\, 59937\, Whitefish\, MT\, 59937\, United States
ATTACH;FMTTYPE=image/jpeg:https://bonsaibrewery.com/wp-content/uploads/2026/04/trivia.jpg
END:VEVENT
BEGIN:VEVENT
DTSTART;TZID=America/Denver:20280202T180000
DTEND;TZID=America/Denver:20280202T200000
DTSTAMP:20260423T091127
CREATED:20260414T173200Z
LAST-MODIFIED:20260414T173305Z
UID:10000113-1833127200-1833134400@bonsaibrewery.com
SUMMARY:Trivia
DESCRIPTION:
URL:https://bonsaibrewery.com/event/trivia-every-wednesday/2028-02-02/
LOCATION:Bonsai Brewery\, 549 Wisconsin Ave\, Whitefish\, MT\, United States\, 59937\, Whitefish\, MT\, 59937\, United States
ATTACH;FMTTYPE=image/jpeg:https://bonsaibrewery.com/wp-content/uploads/2026/04/trivia.jpg
END:VEVENT
BEGIN:VEVENT
DTSTART;TZID=America/Denver:20280209T180000
DTEND;TZID=America/Denver:20280209T200000
DTSTAMP:20260423T091127
CREATED:20260414T173200Z
LAST-MODIFIED:20260414T173305Z
UID:10000114-1833732000-1833739200@bonsaibrewery.com
SUMMARY:Trivia
DESCRIPTION:
URL:https://bonsaibrewery.com/event/trivia-every-wednesday/2028-02-09/
LOCATION:Bonsai Brewery\, 549 Wisconsin Ave\, Whitefish\, MT\, United States\, 59937\, Whitefish\, MT\, 59937\, United States
ATTACH;FMTTYPE=image/jpeg:https://bonsaibrewery.com/wp-content/uploads/2026/04/trivia.jpg
END:VEVENT
BEGIN:VEVENT
DTSTART;TZID=America/Denver:20280216T180000
DTEND;TZID=America/Denver:20280216T200000
DTSTAMP:20260423T091127
CREATED:20260414T173200Z
LAST-MODIFIED:20260414T173305Z
UID:10000115-1834336800-1834344000@bonsaibrewery.com
SUMMARY:Trivia
DESCRIPTION:
URL:https://bonsaibrewery.com/event/trivia-every-wednesday/2028-02-16/
LOCATION:Bonsai Brewery\, 549 Wisconsin Ave\, Whitefish\, MT\, United States\, 59937\, Whitefish\, MT\, 59937\, United States
ATTACH;FMTTYPE=image/jpeg:https://bonsaibrewery.com/wp-content/uploads/2026/04/trivia.jpg
END:VEVENT
BEGIN:VEVENT
DTSTART;TZID=America/Denver:20280223T180000
DTEND;TZID=America/Denver:20280223T200000
DTSTAMP:20260423T091127
CREATED:20260414T173200Z
LAST-MODIFIED:20260414T173305Z
UID:10000116-1834941600-1834948800@bonsaibrewery.com
SUMMARY:Trivia
DESCRIPTION:
URL:https://bonsaibrewery.com/event/trivia-every-wednesday/2028-02-23/
LOCATION:Bonsai Brewery\, 549 Wisconsin Ave\, Whitefish\, MT\, United States\, 59937\, Whitefish\, MT\, 59937\, United States
ATTACH;FMTTYPE=image/jpeg:https://bonsaibrewery.com/wp-content/uploads/2026/04/trivia.jpg
END:VEVENT
BEGIN:VEVENT
DTSTART;TZID=America/Denver:20280301T180000
DTEND;TZID=America/Denver:20280301T200000
DTSTAMP:20260423T091127
CREATED:20260414T173200Z
LAST-MODIFIED:20260414T173305Z
UID:10000117-1835546400-1835553600@bonsaibrewery.com
SUMMARY:Trivia
DESCRIPTION:
URL:https://bonsaibrewery.com/event/trivia-every-wednesday/2028-03-01/
LOCATION:Bonsai Brewery\, 549 Wisconsin Ave\, Whitefish\, MT\, United States\, 59937\, Whitefish\, MT\, 59937\, United States
ATTACH;FMTTYPE=image/jpeg:https://bonsaibrewery.com/wp-content/uploads/2026/04/trivia.jpg
END:VEVENT
BEGIN:VEVENT
DTSTART;TZID=America/Denver:20280308T180000
DTEND;TZID=America/Denver:20280308T200000
DTSTAMP:20260423T091127
CREATED:20260414T173200Z
LAST-MODIFIED:20260414T173305Z
UID:10000118-1836151200-1836158400@bonsaibrewery.com
SUMMARY:Trivia
DESCRIPTION:
URL:https://bonsaibrewery.com/event/trivia-every-wednesday/2028-03-08/
LOCATION:Bonsai Brewery\, 549 Wisconsin Ave\, Whitefish\, MT\, United States\, 59937\, Whitefish\, MT\, 59937\, United States
ATTACH;FMTTYPE=image/jpeg:https://bonsaibrewery.com/wp-content/uploads/2026/04/trivia.jpg
END:VEVENT
BEGIN:VEVENT
DTSTART;TZID=America/Denver:20280315T180000
DTEND;TZID=America/Denver:20280315T200000
DTSTAMP:20260423T091127
CREATED:20260414T173200Z
LAST-MODIFIED:20260414T173305Z
UID:10000119-1836756000-1836763200@bonsaibrewery.com
SUMMARY:Trivia
DESCRIPTION:
URL:https://bonsaibrewery.com/event/trivia-every-wednesday/2028-03-15/
LOCATION:Bonsai Brewery\, 549 Wisconsin Ave\, Whitefish\, MT\, United States\, 59937\, Whitefish\, MT\, 59937\, United States
ATTACH;FMTTYPE=image/jpeg:https://bonsaibrewery.com/wp-content/uploads/2026/04/trivia.jpg
END:VEVENT
BEGIN:VEVENT
DTSTART;TZID=America/Denver:20280322T180000
DTEND;TZID=America/Denver:20280322T200000
DTSTAMP:20260423T091127
CREATED:20260414T173200Z
LAST-MODIFIED:20260414T173305Z
UID:10000120-1837360800-1837368000@bonsaibrewery.com
SUMMARY:Trivia
DESCRIPTION:
URL:https://bonsaibrewery.com/event/trivia-every-wednesday/2028-03-22/
LOCATION:Bonsai Brewery\, 549 Wisconsin Ave\, Whitefish\, MT\, United States\, 59937\, Whitefish\, MT\, 59937\, United States
ATTACH;FMTTYPE=image/jpeg:https://bonsaibrewery.com/wp-content/uploads/2026/04/trivia.jpg
END:VEVENT
BEGIN:VEVENT
DTSTART;TZID=America/Denver:20280329T180000
DTEND;TZID=America/Denver:20280329T200000
DTSTAMP:20260423T091127
CREATED:20260414T173200Z
LAST-MODIFIED:20260414T173305Z
UID:10000121-1837965600-1837972800@bonsaibrewery.com
SUMMARY:Trivia
DESCRIPTION:
URL:https://bonsaibrewery.com/event/trivia-every-wednesday/2028-03-29/
LOCATION:Bonsai Brewery\, 549 Wisconsin Ave\, Whitefish\, MT\, United States\, 59937\, Whitefish\, MT\, 59937\, United States
ATTACH;FMTTYPE=image/jpeg:https://bonsaibrewery.com/wp-content/uploads/2026/04/trivia.jpg
END:VEVENT
BEGIN:VEVENT
DTSTART;TZID=America/Denver:20280405T180000
DTEND;TZID=America/Denver:20280405T200000
DTSTAMP:20260423T091127
CREATED:20260414T173200Z
LAST-MODIFIED:20260414T173305Z
UID:10000122-1838570400-1838577600@bonsaibrewery.com
SUMMARY:Trivia
DESCRIPTION:
URL:https://bonsaibrewery.com/event/trivia-every-wednesday/2028-04-05/
LOCATION:Bonsai Brewery\, 549 Wisconsin Ave\, Whitefish\, MT\, United States\, 59937\, Whitefish\, MT\, 59937\, United States
ATTACH;FMTTYPE=image/jpeg:https://bonsaibrewery.com/wp-content/uploads/2026/04/trivia.jpg
END:VEVENT
BEGIN:VEVENT
DTSTART;TZID=America/Denver:20280412T180000
DTEND;TZID=America/Denver:20280412T200000
DTSTAMP:20260423T091127
CREATED:20260414T173200Z
LAST-MODIFIED:20260414T173305Z
UID:10000123-1839175200-1839182400@bonsaibrewery.com
SUMMARY:Trivia
DESCRIPTION:
URL:https://bonsaibrewery.com/event/trivia-every-wednesday/2028-04-12/
LOCATION:Bonsai Brewery\, 549 Wisconsin Ave\, Whitefish\, MT\, United States\, 59937\, Whitefish\, MT\, 59937\, United States
ATTACH;FMTTYPE=image/jpeg:https://bonsaibrewery.com/wp-content/uploads/2026/04/trivia.jpg
END:VEVENT
BEGIN:VEVENT
DTSTART;TZID=America/Denver:20280419T180000
DTEND;TZID=America/Denver:20280419T200000
DTSTAMP:20260423T091127
CREATED:20260414T173200Z
LAST-MODIFIED:20260414T173305Z
UID:10000124-1839780000-1839787200@bonsaibrewery.com
SUMMARY:Trivia
DESCRIPTION:
URL:https://bonsaibrewery.com/event/trivia-every-wednesday/2028-04-19/
LOCATION:Bonsai Brewery\, 549 Wisconsin Ave\, Whitefish\, MT\, United States\, 59937\, Whitefish\, MT\, 59937\, United States
ATTACH;FMTTYPE=image/jpeg:https://bonsaibrewery.com/wp-content/uploads/2026/04/trivia.jpg
END:VEVENT
BEGIN:VEVENT
DTSTART;TZID=America/Denver:20280426T180000
DTEND;TZID=America/Denver:20280426T200000
DTSTAMP:20260423T091127
CREATED:20260414T173200Z
LAST-MODIFIED:20260414T173305Z
UID:10000125-1840384800-1840392000@bonsaibrewery.com
SUMMARY:Trivia
DESCRIPTION:
URL:https://bonsaibrewery.com/event/trivia-every-wednesday/2028-04-26/
LOCATION:Bonsai Brewery\, 549 Wisconsin Ave\, Whitefish\, MT\, United States\, 59937\, Whitefish\, MT\, 59937\, United States
ATTACH;FMTTYPE=image/jpeg:https://bonsaibrewery.com/wp-content/uploads/2026/04/trivia.jpg
END:VEVENT
BEGIN:VEVENT
DTSTART;TZID=America/Denver:20280503T180000
DTEND;TZID=America/Denver:20280503T200000
DTSTAMP:20260423T091127
CREATED:20260414T173200Z
LAST-MODIFIED:20260414T173305Z
UID:10000126-1840989600-1840996800@bonsaibrewery.com
SUMMARY:Trivia
DESCRIPTION:
URL:https://bonsaibrewery.com/event/trivia-every-wednesday/2028-05-03/
LOCATION:Bonsai Brewery\, 549 Wisconsin Ave\, Whitefish\, MT\, United States\, 59937\, Whitefish\, MT\, 59937\, United States
ATTACH;FMTTYPE=image/jpeg:https://bonsaibrewery.com/wp-content/uploads/2026/04/trivia.jpg
END:VEVENT
BEGIN:VEVENT
DTSTART;TZID=America/Denver:20280510T180000
DTEND;TZID=America/Denver:20280510T200000
DTSTAMP:20260423T091127
CREATED:20260414T173200Z
LAST-MODIFIED:20260414T173305Z
UID:10000127-1841594400-1841601600@bonsaibrewery.com
SUMMARY:Trivia
DESCRIPTION:
URL:https://bonsaibrewery.com/event/trivia-every-wednesday/2028-05-10/
LOCATION:Bonsai Brewery\, 549 Wisconsin Ave\, Whitefish\, MT\, United States\, 59937\, Whitefish\, MT\, 59937\, United States
ATTACH;FMTTYPE=image/jpeg:https://bonsaibrewery.com/wp-content/uploads/2026/04/trivia.jpg
END:VEVENT
BEGIN:VEVENT
DTSTART;TZID=America/Denver:20280517T180000
DTEND;TZID=America/Denver:20280517T200000
DTSTAMP:20260423T091127
CREATED:20260414T173200Z
LAST-MODIFIED:20260414T173305Z
UID:10000128-1842199200-1842206400@bonsaibrewery.com
SUMMARY:Trivia
DESCRIPTION:
URL:https://bonsaibrewery.com/event/trivia-every-wednesday/2028-05-17/
LOCATION:Bonsai Brewery\, 549 Wisconsin Ave\, Whitefish\, MT\, United States\, 59937\, Whitefish\, MT\, 59937\, United States
ATTACH;FMTTYPE=image/jpeg:https://bonsaibrewery.com/wp-content/uploads/2026/04/trivia.jpg
END:VEVENT
BEGIN:VEVENT
DTSTART;TZID=America/Denver:20280524T180000
DTEND;TZID=America/Denver:20280524T200000
DTSTAMP:20260423T091127
CREATED:20260414T173200Z
LAST-MODIFIED:20260414T173305Z
UID:10000129-1842804000-1842811200@bonsaibrewery.com
SUMMARY:Trivia
DESCRIPTION:
URL:https://bonsaibrewery.com/event/trivia-every-wednesday/2028-05-24/
LOCATION:Bonsai Brewery\, 549 Wisconsin Ave\, Whitefish\, MT\, United States\, 59937\, Whitefish\, MT\, 59937\, United States
ATTACH;FMTTYPE=image/jpeg:https://bonsaibrewery.com/wp-content/uploads/2026/04/trivia.jpg
END:VEVENT
BEGIN:VEVENT
DTSTART;TZID=America/Denver:20280531T180000
DTEND;TZID=America/Denver:20280531T200000
DTSTAMP:20260423T091127
CREATED:20260414T173200Z
LAST-MODIFIED:20260414T173305Z
UID:10000130-1843408800-1843416000@bonsaibrewery.com
SUMMARY:Trivia
DESCRIPTION:
URL:https://bonsaibrewery.com/event/trivia-every-wednesday/2028-05-31/
LOCATION:Bonsai Brewery\, 549 Wisconsin Ave\, Whitefish\, MT\, United States\, 59937\, Whitefish\, MT\, 59937\, United States
ATTACH;FMTTYPE=image/jpeg:https://bonsaibrewery.com/wp-content/uploads/2026/04/trivia.jpg
END:VEVENT
BEGIN:VEVENT
DTSTART;TZID=America/Denver:20280607T180000
DTEND;TZID=America/Denver:20280607T200000
DTSTAMP:20260423T091127
CREATED:20260414T173200Z
LAST-MODIFIED:20260414T173305Z
UID:10000131-1844013600-1844020800@bonsaibrewery.com
SUMMARY:Trivia
DESCRIPTION:
URL:https://bonsaibrewery.com/event/trivia-every-wednesday/2028-06-07/
LOCATION:Bonsai Brewery\, 549 Wisconsin Ave\, Whitefish\, MT\, United States\, 59937\, Whitefish\, MT\, 59937\, United States
ATTACH;FMTTYPE=image/jpeg:https://bonsaibrewery.com/wp-content/uploads/2026/04/trivia.jpg
END:VEVENT
BEGIN:VEVENT
DTSTART;TZID=America/Denver:20280614T180000
DTEND;TZID=America/Denver:20280614T200000
DTSTAMP:20260423T091127
CREATED:20260414T173200Z
LAST-MODIFIED:20260414T173305Z
UID:10000132-1844618400-1844625600@bonsaibrewery.com
SUMMARY:Trivia
DESCRIPTION:
URL:https://bonsaibrewery.com/event/trivia-every-wednesday/2028-06-14/
LOCATION:Bonsai Brewery\, 549 Wisconsin Ave\, Whitefish\, MT\, United States\, 59937\, Whitefish\, MT\, 59937\, United States
ATTACH;FMTTYPE=image/jpeg:https://bonsaibrewery.com/wp-content/uploads/2026/04/trivia.jpg
END:VEVENT
BEGIN:VEVENT
DTSTART;TZID=America/Denver:20280621T180000
DTEND;TZID=America/Denver:20280621T200000
DTSTAMP:20260423T091127
CREATED:20260414T173200Z
LAST-MODIFIED:20260414T173305Z
UID:10000133-1845223200-1845230400@bonsaibrewery.com
SUMMARY:Trivia
DESCRIPTION:
URL:https://bonsaibrewery.com/event/trivia-every-wednesday/2028-06-21/
LOCATION:Bonsai Brewery\, 549 Wisconsin Ave\, Whitefish\, MT\, United States\, 59937\, Whitefish\, MT\, 59937\, United States
ATTACH;FMTTYPE=image/jpeg:https://bonsaibrewery.com/wp-content/uploads/2026/04/trivia.jpg
END:VEVENT
BEGIN:VEVENT
DTSTART;TZID=America/Denver:20280628T180000
DTEND;TZID=America/Denver:20280628T200000
DTSTAMP:20260423T091127
CREATED:20260414T173200Z
LAST-MODIFIED:20260414T173305Z
UID:10000134-1845828000-1845835200@bonsaibrewery.com
SUMMARY:Trivia
DESCRIPTION:
URL:https://bonsaibrewery.com/event/trivia-every-wednesday/2028-06-28/
LOCATION:Bonsai Brewery\, 549 Wisconsin Ave\, Whitefish\, MT\, United States\, 59937\, Whitefish\, MT\, 59937\, United States
ATTACH;FMTTYPE=image/jpeg:https://bonsaibrewery.com/wp-content/uploads/2026/04/trivia.jpg
END:VEVENT
END:VCALENDAR