BEGIN:VCALENDAR
VERSION:2.0
PRODID:-//Bonsai Brewery - ECPv6.15.20//NONSGML v1.0//EN
CALSCALE:GREGORIAN
METHOD:PUBLISH
X-WR-CALNAME:Bonsai Brewery
X-ORIGINAL-URL:https://bonsaibrewery.com
X-WR-CALDESC:Events for Bonsai Brewery
REFRESH-INTERVAL;VALUE=DURATION:PT1H
X-Robots-Tag:noindex
X-PUBLISHED-TTL:PT1H
BEGIN:VTIMEZONE
TZID:America/Denver
BEGIN:DAYLIGHT
TZOFFSETFROM:-0700
TZOFFSETTO:-0600
TZNAME:MDT
DTSTART:20290311T090000
END:DAYLIGHT
BEGIN:STANDARD
TZOFFSETFROM:-0600
TZOFFSETTO:-0700
TZNAME:MST
DTSTART:20291104T080000
END:STANDARD
BEGIN:DAYLIGHT
TZOFFSETFROM:-0700
TZOFFSETTO:-0600
TZNAME:MDT
DTSTART:20300310T090000
END:DAYLIGHT
BEGIN:STANDARD
TZOFFSETFROM:-0600
TZOFFSETTO:-0700
TZNAME:MST
DTSTART:20301103T080000
END:STANDARD
BEGIN:DAYLIGHT
TZOFFSETFROM:-0700
TZOFFSETTO:-0600
TZNAME:MDT
DTSTART:20310309T090000
END:DAYLIGHT
BEGIN:STANDARD
TZOFFSETFROM:-0600
TZOFFSETTO:-0700
TZNAME:MST
DTSTART:20311102T080000
END:STANDARD
BEGIN:DAYLIGHT
TZOFFSETFROM:-0700
TZOFFSETTO:-0600
TZNAME:MDT
DTSTART:20320314T090000
END:DAYLIGHT
BEGIN:STANDARD
TZOFFSETFROM:-0600
TZOFFSETTO:-0700
TZNAME:MST
DTSTART:20321107T080000
END:STANDARD
END:VTIMEZONE
BEGIN:VEVENT
DTSTART;TZID=America/Denver:20300703T180000
DTEND;TZID=America/Denver:20300703T200000
DTSTAMP:20260425T223413
CREATED:20260414T173200Z
LAST-MODIFIED:20260414T173305Z
UID:10000239-1909332000-1909339200@bonsaibrewery.com
SUMMARY:Trivia
DESCRIPTION:
URL:https://bonsaibrewery.com/event/trivia-every-wednesday/2030-07-03/
LOCATION:Bonsai Brewery\, 549 Wisconsin Ave\, Whitefish\, MT\, United States\, 59937\, Whitefish\, MT\, 59937\, United States
ATTACH;FMTTYPE=image/jpeg:https://bonsaibrewery.com/wp-content/uploads/2026/04/trivia.jpg
END:VEVENT
BEGIN:VEVENT
DTSTART;TZID=America/Denver:20300710T180000
DTEND;TZID=America/Denver:20300710T200000
DTSTAMP:20260425T223413
CREATED:20260414T173200Z
LAST-MODIFIED:20260414T173305Z
UID:10000240-1909936800-1909944000@bonsaibrewery.com
SUMMARY:Trivia
DESCRIPTION:
URL:https://bonsaibrewery.com/event/trivia-every-wednesday/2030-07-10/
LOCATION:Bonsai Brewery\, 549 Wisconsin Ave\, Whitefish\, MT\, United States\, 59937\, Whitefish\, MT\, 59937\, United States
ATTACH;FMTTYPE=image/jpeg:https://bonsaibrewery.com/wp-content/uploads/2026/04/trivia.jpg
END:VEVENT
BEGIN:VEVENT
DTSTART;TZID=America/Denver:20300717T180000
DTEND;TZID=America/Denver:20300717T200000
DTSTAMP:20260425T223413
CREATED:20260414T173200Z
LAST-MODIFIED:20260414T173305Z
UID:10000241-1910541600-1910548800@bonsaibrewery.com
SUMMARY:Trivia
DESCRIPTION:
URL:https://bonsaibrewery.com/event/trivia-every-wednesday/2030-07-17/
LOCATION:Bonsai Brewery\, 549 Wisconsin Ave\, Whitefish\, MT\, United States\, 59937\, Whitefish\, MT\, 59937\, United States
ATTACH;FMTTYPE=image/jpeg:https://bonsaibrewery.com/wp-content/uploads/2026/04/trivia.jpg
END:VEVENT
BEGIN:VEVENT
DTSTART;TZID=America/Denver:20300724T180000
DTEND;TZID=America/Denver:20300724T200000
DTSTAMP:20260425T223413
CREATED:20260414T173200Z
LAST-MODIFIED:20260414T173305Z
UID:10000242-1911146400-1911153600@bonsaibrewery.com
SUMMARY:Trivia
DESCRIPTION:
URL:https://bonsaibrewery.com/event/trivia-every-wednesday/2030-07-24/
LOCATION:Bonsai Brewery\, 549 Wisconsin Ave\, Whitefish\, MT\, United States\, 59937\, Whitefish\, MT\, 59937\, United States
ATTACH;FMTTYPE=image/jpeg:https://bonsaibrewery.com/wp-content/uploads/2026/04/trivia.jpg
END:VEVENT
BEGIN:VEVENT
DTSTART;TZID=America/Denver:20300731T180000
DTEND;TZID=America/Denver:20300731T200000
DTSTAMP:20260425T223413
CREATED:20260414T173200Z
LAST-MODIFIED:20260414T173305Z
UID:10000243-1911751200-1911758400@bonsaibrewery.com
SUMMARY:Trivia
DESCRIPTION:
URL:https://bonsaibrewery.com/event/trivia-every-wednesday/2030-07-31/
LOCATION:Bonsai Brewery\, 549 Wisconsin Ave\, Whitefish\, MT\, United States\, 59937\, Whitefish\, MT\, 59937\, United States
ATTACH;FMTTYPE=image/jpeg:https://bonsaibrewery.com/wp-content/uploads/2026/04/trivia.jpg
END:VEVENT
BEGIN:VEVENT
DTSTART;TZID=America/Denver:20300807T180000
DTEND;TZID=America/Denver:20300807T200000
DTSTAMP:20260425T223413
CREATED:20260414T173200Z
LAST-MODIFIED:20260414T173305Z
UID:10000244-1912356000-1912363200@bonsaibrewery.com
SUMMARY:Trivia
DESCRIPTION:
URL:https://bonsaibrewery.com/event/trivia-every-wednesday/2030-08-07/
LOCATION:Bonsai Brewery\, 549 Wisconsin Ave\, Whitefish\, MT\, United States\, 59937\, Whitefish\, MT\, 59937\, United States
ATTACH;FMTTYPE=image/jpeg:https://bonsaibrewery.com/wp-content/uploads/2026/04/trivia.jpg
END:VEVENT
BEGIN:VEVENT
DTSTART;TZID=America/Denver:20300814T180000
DTEND;TZID=America/Denver:20300814T200000
DTSTAMP:20260425T223413
CREATED:20260414T173200Z
LAST-MODIFIED:20260414T173305Z
UID:10000245-1912960800-1912968000@bonsaibrewery.com
SUMMARY:Trivia
DESCRIPTION:
URL:https://bonsaibrewery.com/event/trivia-every-wednesday/2030-08-14/
LOCATION:Bonsai Brewery\, 549 Wisconsin Ave\, Whitefish\, MT\, United States\, 59937\, Whitefish\, MT\, 59937\, United States
ATTACH;FMTTYPE=image/jpeg:https://bonsaibrewery.com/wp-content/uploads/2026/04/trivia.jpg
END:VEVENT
BEGIN:VEVENT
DTSTART;TZID=America/Denver:20300821T180000
DTEND;TZID=America/Denver:20300821T200000
DTSTAMP:20260425T223413
CREATED:20260414T173200Z
LAST-MODIFIED:20260414T173305Z
UID:10000246-1913565600-1913572800@bonsaibrewery.com
SUMMARY:Trivia
DESCRIPTION:
URL:https://bonsaibrewery.com/event/trivia-every-wednesday/2030-08-21/
LOCATION:Bonsai Brewery\, 549 Wisconsin Ave\, Whitefish\, MT\, United States\, 59937\, Whitefish\, MT\, 59937\, United States
ATTACH;FMTTYPE=image/jpeg:https://bonsaibrewery.com/wp-content/uploads/2026/04/trivia.jpg
END:VEVENT
BEGIN:VEVENT
DTSTART;TZID=America/Denver:20300828T180000
DTEND;TZID=America/Denver:20300828T200000
DTSTAMP:20260425T223413
CREATED:20260414T173200Z
LAST-MODIFIED:20260414T173305Z
UID:10000247-1914170400-1914177600@bonsaibrewery.com
SUMMARY:Trivia
DESCRIPTION:
URL:https://bonsaibrewery.com/event/trivia-every-wednesday/2030-08-28/
LOCATION:Bonsai Brewery\, 549 Wisconsin Ave\, Whitefish\, MT\, United States\, 59937\, Whitefish\, MT\, 59937\, United States
ATTACH;FMTTYPE=image/jpeg:https://bonsaibrewery.com/wp-content/uploads/2026/04/trivia.jpg
END:VEVENT
BEGIN:VEVENT
DTSTART;TZID=America/Denver:20300904T180000
DTEND;TZID=America/Denver:20300904T200000
DTSTAMP:20260425T223413
CREATED:20260414T173200Z
LAST-MODIFIED:20260414T173305Z
UID:10000248-1914775200-1914782400@bonsaibrewery.com
SUMMARY:Trivia
DESCRIPTION:
URL:https://bonsaibrewery.com/event/trivia-every-wednesday/2030-09-04/
LOCATION:Bonsai Brewery\, 549 Wisconsin Ave\, Whitefish\, MT\, United States\, 59937\, Whitefish\, MT\, 59937\, United States
ATTACH;FMTTYPE=image/jpeg:https://bonsaibrewery.com/wp-content/uploads/2026/04/trivia.jpg
END:VEVENT
BEGIN:VEVENT
DTSTART;TZID=America/Denver:20300911T180000
DTEND;TZID=America/Denver:20300911T200000
DTSTAMP:20260425T223413
CREATED:20260414T173200Z
LAST-MODIFIED:20260414T173305Z
UID:10000249-1915380000-1915387200@bonsaibrewery.com
SUMMARY:Trivia
DESCRIPTION:
URL:https://bonsaibrewery.com/event/trivia-every-wednesday/2030-09-11/
LOCATION:Bonsai Brewery\, 549 Wisconsin Ave\, Whitefish\, MT\, United States\, 59937\, Whitefish\, MT\, 59937\, United States
ATTACH;FMTTYPE=image/jpeg:https://bonsaibrewery.com/wp-content/uploads/2026/04/trivia.jpg
END:VEVENT
BEGIN:VEVENT
DTSTART;TZID=America/Denver:20300918T180000
DTEND;TZID=America/Denver:20300918T200000
DTSTAMP:20260425T223413
CREATED:20260414T173200Z
LAST-MODIFIED:20260414T173305Z
UID:10000250-1915984800-1915992000@bonsaibrewery.com
SUMMARY:Trivia
DESCRIPTION:
URL:https://bonsaibrewery.com/event/trivia-every-wednesday/2030-09-18/
LOCATION:Bonsai Brewery\, 549 Wisconsin Ave\, Whitefish\, MT\, United States\, 59937\, Whitefish\, MT\, 59937\, United States
ATTACH;FMTTYPE=image/jpeg:https://bonsaibrewery.com/wp-content/uploads/2026/04/trivia.jpg
END:VEVENT
BEGIN:VEVENT
DTSTART;TZID=America/Denver:20300925T180000
DTEND;TZID=America/Denver:20300925T200000
DTSTAMP:20260425T223413
CREATED:20260414T173200Z
LAST-MODIFIED:20260414T173305Z
UID:10000251-1916589600-1916596800@bonsaibrewery.com
SUMMARY:Trivia
DESCRIPTION:
URL:https://bonsaibrewery.com/event/trivia-every-wednesday/2030-09-25/
LOCATION:Bonsai Brewery\, 549 Wisconsin Ave\, Whitefish\, MT\, United States\, 59937\, Whitefish\, MT\, 59937\, United States
ATTACH;FMTTYPE=image/jpeg:https://bonsaibrewery.com/wp-content/uploads/2026/04/trivia.jpg
END:VEVENT
BEGIN:VEVENT
DTSTART;TZID=America/Denver:20301002T180000
DTEND;TZID=America/Denver:20301002T200000
DTSTAMP:20260425T223413
CREATED:20260414T173200Z
LAST-MODIFIED:20260414T173305Z
UID:10000252-1917194400-1917201600@bonsaibrewery.com
SUMMARY:Trivia
DESCRIPTION:
URL:https://bonsaibrewery.com/event/trivia-every-wednesday/2030-10-02/
LOCATION:Bonsai Brewery\, 549 Wisconsin Ave\, Whitefish\, MT\, United States\, 59937\, Whitefish\, MT\, 59937\, United States
ATTACH;FMTTYPE=image/jpeg:https://bonsaibrewery.com/wp-content/uploads/2026/04/trivia.jpg
END:VEVENT
BEGIN:VEVENT
DTSTART;TZID=America/Denver:20301009T180000
DTEND;TZID=America/Denver:20301009T200000
DTSTAMP:20260425T223413
CREATED:20260414T173200Z
LAST-MODIFIED:20260414T173305Z
UID:10000253-1917799200-1917806400@bonsaibrewery.com
SUMMARY:Trivia
DESCRIPTION:
URL:https://bonsaibrewery.com/event/trivia-every-wednesday/2030-10-09/
LOCATION:Bonsai Brewery\, 549 Wisconsin Ave\, Whitefish\, MT\, United States\, 59937\, Whitefish\, MT\, 59937\, United States
ATTACH;FMTTYPE=image/jpeg:https://bonsaibrewery.com/wp-content/uploads/2026/04/trivia.jpg
END:VEVENT
BEGIN:VEVENT
DTSTART;TZID=America/Denver:20301016T180000
DTEND;TZID=America/Denver:20301016T200000
DTSTAMP:20260425T223413
CREATED:20260414T173200Z
LAST-MODIFIED:20260414T173305Z
UID:10000254-1918404000-1918411200@bonsaibrewery.com
SUMMARY:Trivia
DESCRIPTION:
URL:https://bonsaibrewery.com/event/trivia-every-wednesday/2030-10-16/
LOCATION:Bonsai Brewery\, 549 Wisconsin Ave\, Whitefish\, MT\, United States\, 59937\, Whitefish\, MT\, 59937\, United States
ATTACH;FMTTYPE=image/jpeg:https://bonsaibrewery.com/wp-content/uploads/2026/04/trivia.jpg
END:VEVENT
BEGIN:VEVENT
DTSTART;TZID=America/Denver:20301023T180000
DTEND;TZID=America/Denver:20301023T200000
DTSTAMP:20260425T223413
CREATED:20260414T173200Z
LAST-MODIFIED:20260414T173305Z
UID:10000255-1919008800-1919016000@bonsaibrewery.com
SUMMARY:Trivia
DESCRIPTION:
URL:https://bonsaibrewery.com/event/trivia-every-wednesday/2030-10-23/
LOCATION:Bonsai Brewery\, 549 Wisconsin Ave\, Whitefish\, MT\, United States\, 59937\, Whitefish\, MT\, 59937\, United States
ATTACH;FMTTYPE=image/jpeg:https://bonsaibrewery.com/wp-content/uploads/2026/04/trivia.jpg
END:VEVENT
BEGIN:VEVENT
DTSTART;TZID=America/Denver:20301030T180000
DTEND;TZID=America/Denver:20301030T200000
DTSTAMP:20260425T223413
CREATED:20260414T173200Z
LAST-MODIFIED:20260414T173305Z
UID:10000256-1919613600-1919620800@bonsaibrewery.com
SUMMARY:Trivia
DESCRIPTION:
URL:https://bonsaibrewery.com/event/trivia-every-wednesday/2030-10-30/
LOCATION:Bonsai Brewery\, 549 Wisconsin Ave\, Whitefish\, MT\, United States\, 59937\, Whitefish\, MT\, 59937\, United States
ATTACH;FMTTYPE=image/jpeg:https://bonsaibrewery.com/wp-content/uploads/2026/04/trivia.jpg
END:VEVENT
BEGIN:VEVENT
DTSTART;TZID=America/Denver:20301106T180000
DTEND;TZID=America/Denver:20301106T200000
DTSTAMP:20260425T223413
CREATED:20260414T173200Z
LAST-MODIFIED:20260414T173305Z
UID:10000257-1920218400-1920225600@bonsaibrewery.com
SUMMARY:Trivia
DESCRIPTION:
URL:https://bonsaibrewery.com/event/trivia-every-wednesday/2030-11-06/
LOCATION:Bonsai Brewery\, 549 Wisconsin Ave\, Whitefish\, MT\, United States\, 59937\, Whitefish\, MT\, 59937\, United States
ATTACH;FMTTYPE=image/jpeg:https://bonsaibrewery.com/wp-content/uploads/2026/04/trivia.jpg
END:VEVENT
BEGIN:VEVENT
DTSTART;TZID=America/Denver:20301113T180000
DTEND;TZID=America/Denver:20301113T200000
DTSTAMP:20260425T223413
CREATED:20260414T173200Z
LAST-MODIFIED:20260414T173305Z
UID:10000258-1920823200-1920830400@bonsaibrewery.com
SUMMARY:Trivia
DESCRIPTION:
URL:https://bonsaibrewery.com/event/trivia-every-wednesday/2030-11-13/
LOCATION:Bonsai Brewery\, 549 Wisconsin Ave\, Whitefish\, MT\, United States\, 59937\, Whitefish\, MT\, 59937\, United States
ATTACH;FMTTYPE=image/jpeg:https://bonsaibrewery.com/wp-content/uploads/2026/04/trivia.jpg
END:VEVENT
BEGIN:VEVENT
DTSTART;TZID=America/Denver:20301120T180000
DTEND;TZID=America/Denver:20301120T200000
DTSTAMP:20260425T223413
CREATED:20260414T173200Z
LAST-MODIFIED:20260414T173305Z
UID:10000259-1921428000-1921435200@bonsaibrewery.com
SUMMARY:Trivia
DESCRIPTION:
URL:https://bonsaibrewery.com/event/trivia-every-wednesday/2030-11-20/
LOCATION:Bonsai Brewery\, 549 Wisconsin Ave\, Whitefish\, MT\, United States\, 59937\, Whitefish\, MT\, 59937\, United States
ATTACH;FMTTYPE=image/jpeg:https://bonsaibrewery.com/wp-content/uploads/2026/04/trivia.jpg
END:VEVENT
BEGIN:VEVENT
DTSTART;TZID=America/Denver:20301127T180000
DTEND;TZID=America/Denver:20301127T200000
DTSTAMP:20260425T223413
CREATED:20260414T173200Z
LAST-MODIFIED:20260414T173305Z
UID:10000260-1922032800-1922040000@bonsaibrewery.com
SUMMARY:Trivia
DESCRIPTION:
URL:https://bonsaibrewery.com/event/trivia-every-wednesday/2030-11-27/
LOCATION:Bonsai Brewery\, 549 Wisconsin Ave\, Whitefish\, MT\, United States\, 59937\, Whitefish\, MT\, 59937\, United States
ATTACH;FMTTYPE=image/jpeg:https://bonsaibrewery.com/wp-content/uploads/2026/04/trivia.jpg
END:VEVENT
BEGIN:VEVENT
DTSTART;TZID=America/Denver:20301204T180000
DTEND;TZID=America/Denver:20301204T200000
DTSTAMP:20260425T223413
CREATED:20260414T173200Z
LAST-MODIFIED:20260414T173305Z
UID:10000261-1922637600-1922644800@bonsaibrewery.com
SUMMARY:Trivia
DESCRIPTION:
URL:https://bonsaibrewery.com/event/trivia-every-wednesday/2030-12-04/
LOCATION:Bonsai Brewery\, 549 Wisconsin Ave\, Whitefish\, MT\, United States\, 59937\, Whitefish\, MT\, 59937\, United States
ATTACH;FMTTYPE=image/jpeg:https://bonsaibrewery.com/wp-content/uploads/2026/04/trivia.jpg
END:VEVENT
BEGIN:VEVENT
DTSTART;TZID=America/Denver:20301211T180000
DTEND;TZID=America/Denver:20301211T200000
DTSTAMP:20260425T223413
CREATED:20260414T173200Z
LAST-MODIFIED:20260414T173305Z
UID:10000262-1923242400-1923249600@bonsaibrewery.com
SUMMARY:Trivia
DESCRIPTION:
URL:https://bonsaibrewery.com/event/trivia-every-wednesday/2030-12-11/
LOCATION:Bonsai Brewery\, 549 Wisconsin Ave\, Whitefish\, MT\, United States\, 59937\, Whitefish\, MT\, 59937\, United States
ATTACH;FMTTYPE=image/jpeg:https://bonsaibrewery.com/wp-content/uploads/2026/04/trivia.jpg
END:VEVENT
BEGIN:VEVENT
DTSTART;TZID=America/Denver:20301218T180000
DTEND;TZID=America/Denver:20301218T200000
DTSTAMP:20260425T223413
CREATED:20260414T173200Z
LAST-MODIFIED:20260414T173305Z
UID:10000263-1923847200-1923854400@bonsaibrewery.com
SUMMARY:Trivia
DESCRIPTION:
URL:https://bonsaibrewery.com/event/trivia-every-wednesday/2030-12-18/
LOCATION:Bonsai Brewery\, 549 Wisconsin Ave\, Whitefish\, MT\, United States\, 59937\, Whitefish\, MT\, 59937\, United States
ATTACH;FMTTYPE=image/jpeg:https://bonsaibrewery.com/wp-content/uploads/2026/04/trivia.jpg
END:VEVENT
BEGIN:VEVENT
DTSTART;TZID=America/Denver:20301225T180000
DTEND;TZID=America/Denver:20301225T200000
DTSTAMP:20260425T223413
CREATED:20260414T173200Z
LAST-MODIFIED:20260414T173305Z
UID:10000264-1924452000-1924459200@bonsaibrewery.com
SUMMARY:Trivia
DESCRIPTION:
URL:https://bonsaibrewery.com/event/trivia-every-wednesday/2030-12-25/
LOCATION:Bonsai Brewery\, 549 Wisconsin Ave\, Whitefish\, MT\, United States\, 59937\, Whitefish\, MT\, 59937\, United States
ATTACH;FMTTYPE=image/jpeg:https://bonsaibrewery.com/wp-content/uploads/2026/04/trivia.jpg
END:VEVENT
BEGIN:VEVENT
DTSTART;TZID=America/Denver:20310101T180000
DTEND;TZID=America/Denver:20310101T200000
DTSTAMP:20260425T223413
CREATED:20260414T173200Z
LAST-MODIFIED:20260414T173305Z
UID:10000265-1925056800-1925064000@bonsaibrewery.com
SUMMARY:Trivia
DESCRIPTION:
URL:https://bonsaibrewery.com/event/trivia-every-wednesday/2031-01-01/
LOCATION:Bonsai Brewery\, 549 Wisconsin Ave\, Whitefish\, MT\, United States\, 59937\, Whitefish\, MT\, 59937\, United States
ATTACH;FMTTYPE=image/jpeg:https://bonsaibrewery.com/wp-content/uploads/2026/04/trivia.jpg
END:VEVENT
BEGIN:VEVENT
DTSTART;TZID=America/Denver:20310108T180000
DTEND;TZID=America/Denver:20310108T200000
DTSTAMP:20260425T223413
CREATED:20260414T173200Z
LAST-MODIFIED:20260414T173305Z
UID:10000266-1925661600-1925668800@bonsaibrewery.com
SUMMARY:Trivia
DESCRIPTION:
URL:https://bonsaibrewery.com/event/trivia-every-wednesday/2031-01-08/
LOCATION:Bonsai Brewery\, 549 Wisconsin Ave\, Whitefish\, MT\, United States\, 59937\, Whitefish\, MT\, 59937\, United States
ATTACH;FMTTYPE=image/jpeg:https://bonsaibrewery.com/wp-content/uploads/2026/04/trivia.jpg
END:VEVENT
BEGIN:VEVENT
DTSTART;TZID=America/Denver:20310115T180000
DTEND;TZID=America/Denver:20310115T200000
DTSTAMP:20260425T223413
CREATED:20260414T173200Z
LAST-MODIFIED:20260414T173305Z
UID:10000267-1926266400-1926273600@bonsaibrewery.com
SUMMARY:Trivia
DESCRIPTION:
URL:https://bonsaibrewery.com/event/trivia-every-wednesday/2031-01-15/
LOCATION:Bonsai Brewery\, 549 Wisconsin Ave\, Whitefish\, MT\, United States\, 59937\, Whitefish\, MT\, 59937\, United States
ATTACH;FMTTYPE=image/jpeg:https://bonsaibrewery.com/wp-content/uploads/2026/04/trivia.jpg
END:VEVENT
BEGIN:VEVENT
DTSTART;TZID=America/Denver:20310122T180000
DTEND;TZID=America/Denver:20310122T200000
DTSTAMP:20260425T223413
CREATED:20260414T173200Z
LAST-MODIFIED:20260414T173305Z
UID:10000268-1926871200-1926878400@bonsaibrewery.com
SUMMARY:Trivia
DESCRIPTION:
URL:https://bonsaibrewery.com/event/trivia-every-wednesday/2031-01-22/
LOCATION:Bonsai Brewery\, 549 Wisconsin Ave\, Whitefish\, MT\, United States\, 59937\, Whitefish\, MT\, 59937\, United States
ATTACH;FMTTYPE=image/jpeg:https://bonsaibrewery.com/wp-content/uploads/2026/04/trivia.jpg
END:VEVENT
END:VCALENDAR