BEGIN:VCALENDAR
VERSION:2.0
PRODID:-//Bonsai Brewery - ECPv6.15.20//NONSGML v1.0//EN
CALSCALE:GREGORIAN
METHOD:PUBLISH
X-ORIGINAL-URL:https://bonsaibrewery.com
X-WR-CALDESC:Events for Bonsai Brewery
REFRESH-INTERVAL;VALUE=DURATION:PT1H
X-Robots-Tag:noindex
X-PUBLISHED-TTL:PT1H
BEGIN:VTIMEZONE
TZID:America/Denver
BEGIN:DAYLIGHT
TZOFFSETFROM:-0700
TZOFFSETTO:-0600
TZNAME:MDT
DTSTART:20270314T090000
END:DAYLIGHT
BEGIN:STANDARD
TZOFFSETFROM:-0600
TZOFFSETTO:-0700
TZNAME:MST
DTSTART:20271107T080000
END:STANDARD
BEGIN:DAYLIGHT
TZOFFSETFROM:-0700
TZOFFSETTO:-0600
TZNAME:MDT
DTSTART:20280312T090000
END:DAYLIGHT
BEGIN:STANDARD
TZOFFSETFROM:-0600
TZOFFSETTO:-0700
TZNAME:MST
DTSTART:20281105T080000
END:STANDARD
BEGIN:DAYLIGHT
TZOFFSETFROM:-0700
TZOFFSETTO:-0600
TZNAME:MDT
DTSTART:20290311T090000
END:DAYLIGHT
BEGIN:STANDARD
TZOFFSETFROM:-0600
TZOFFSETTO:-0700
TZNAME:MST
DTSTART:20291104T080000
END:STANDARD
BEGIN:DAYLIGHT
TZOFFSETFROM:-0700
TZOFFSETTO:-0600
TZNAME:MDT
DTSTART:20300310T090000
END:DAYLIGHT
BEGIN:STANDARD
TZOFFSETFROM:-0600
TZOFFSETTO:-0700
TZNAME:MST
DTSTART:20301103T080000
END:STANDARD
END:VTIMEZONE
BEGIN:VEVENT
DTSTART;TZID=America/Denver:20281115T180000
DTEND;TZID=America/Denver:20281115T200000
DTSTAMP:20260425T100205
CREATED:20260414T173200Z
LAST-MODIFIED:20260414T173305Z
UID:10000154-1857924000-1857931200@bonsaibrewery.com
SUMMARY:Trivia
DESCRIPTION:
URL:https://bonsaibrewery.com/event/trivia-every-wednesday/2028-11-15/
LOCATION:Bonsai Brewery\, 549 Wisconsin Ave\, Whitefish\, MT\, United States\, 59937\, Whitefish\, MT\, 59937\, United States
ATTACH;FMTTYPE=image/jpeg:https://bonsaibrewery.com/wp-content/uploads/2026/04/trivia.jpg
END:VEVENT
BEGIN:VEVENT
DTSTART;TZID=America/Denver:20281122T180000
DTEND;TZID=America/Denver:20281122T200000
DTSTAMP:20260425T100205
CREATED:20260414T173200Z
LAST-MODIFIED:20260414T173305Z
UID:10000155-1858528800-1858536000@bonsaibrewery.com
SUMMARY:Trivia
DESCRIPTION:
URL:https://bonsaibrewery.com/event/trivia-every-wednesday/2028-11-22/
LOCATION:Bonsai Brewery\, 549 Wisconsin Ave\, Whitefish\, MT\, United States\, 59937\, Whitefish\, MT\, 59937\, United States
ATTACH;FMTTYPE=image/jpeg:https://bonsaibrewery.com/wp-content/uploads/2026/04/trivia.jpg
END:VEVENT
BEGIN:VEVENT
DTSTART;TZID=America/Denver:20281129T180000
DTEND;TZID=America/Denver:20281129T200000
DTSTAMP:20260425T100205
CREATED:20260414T173200Z
LAST-MODIFIED:20260414T173305Z
UID:10000156-1859133600-1859140800@bonsaibrewery.com
SUMMARY:Trivia
DESCRIPTION:
URL:https://bonsaibrewery.com/event/trivia-every-wednesday/2028-11-29/
LOCATION:Bonsai Brewery\, 549 Wisconsin Ave\, Whitefish\, MT\, United States\, 59937\, Whitefish\, MT\, 59937\, United States
ATTACH;FMTTYPE=image/jpeg:https://bonsaibrewery.com/wp-content/uploads/2026/04/trivia.jpg
END:VEVENT
BEGIN:VEVENT
DTSTART;TZID=America/Denver:20281206T180000
DTEND;TZID=America/Denver:20281206T200000
DTSTAMP:20260425T100205
CREATED:20260414T173200Z
LAST-MODIFIED:20260414T173305Z
UID:10000157-1859738400-1859745600@bonsaibrewery.com
SUMMARY:Trivia
DESCRIPTION:
URL:https://bonsaibrewery.com/event/trivia-every-wednesday/2028-12-06/
LOCATION:Bonsai Brewery\, 549 Wisconsin Ave\, Whitefish\, MT\, United States\, 59937\, Whitefish\, MT\, 59937\, United States
ATTACH;FMTTYPE=image/jpeg:https://bonsaibrewery.com/wp-content/uploads/2026/04/trivia.jpg
END:VEVENT
BEGIN:VEVENT
DTSTART;TZID=America/Denver:20281213T180000
DTEND;TZID=America/Denver:20281213T200000
DTSTAMP:20260425T100205
CREATED:20260414T173200Z
LAST-MODIFIED:20260414T173305Z
UID:10000158-1860343200-1860350400@bonsaibrewery.com
SUMMARY:Trivia
DESCRIPTION:
URL:https://bonsaibrewery.com/event/trivia-every-wednesday/2028-12-13/
LOCATION:Bonsai Brewery\, 549 Wisconsin Ave\, Whitefish\, MT\, United States\, 59937\, Whitefish\, MT\, 59937\, United States
ATTACH;FMTTYPE=image/jpeg:https://bonsaibrewery.com/wp-content/uploads/2026/04/trivia.jpg
END:VEVENT
BEGIN:VEVENT
DTSTART;TZID=America/Denver:20281220T180000
DTEND;TZID=America/Denver:20281220T200000
DTSTAMP:20260425T100205
CREATED:20260414T173200Z
LAST-MODIFIED:20260414T173305Z
UID:10000159-1860948000-1860955200@bonsaibrewery.com
SUMMARY:Trivia
DESCRIPTION:
URL:https://bonsaibrewery.com/event/trivia-every-wednesday/2028-12-20/
LOCATION:Bonsai Brewery\, 549 Wisconsin Ave\, Whitefish\, MT\, United States\, 59937\, Whitefish\, MT\, 59937\, United States
ATTACH;FMTTYPE=image/jpeg:https://bonsaibrewery.com/wp-content/uploads/2026/04/trivia.jpg
END:VEVENT
BEGIN:VEVENT
DTSTART;TZID=America/Denver:20281227T180000
DTEND;TZID=America/Denver:20281227T200000
DTSTAMP:20260425T100205
CREATED:20260414T173200Z
LAST-MODIFIED:20260414T173305Z
UID:10000160-1861552800-1861560000@bonsaibrewery.com
SUMMARY:Trivia
DESCRIPTION:
URL:https://bonsaibrewery.com/event/trivia-every-wednesday/2028-12-27/
LOCATION:Bonsai Brewery\, 549 Wisconsin Ave\, Whitefish\, MT\, United States\, 59937\, Whitefish\, MT\, 59937\, United States
ATTACH;FMTTYPE=image/jpeg:https://bonsaibrewery.com/wp-content/uploads/2026/04/trivia.jpg
END:VEVENT
BEGIN:VEVENT
DTSTART;TZID=America/Denver:20290103T180000
DTEND;TZID=America/Denver:20290103T200000
DTSTAMP:20260425T100205
CREATED:20260414T173200Z
LAST-MODIFIED:20260414T173305Z
UID:10000161-1862157600-1862164800@bonsaibrewery.com
SUMMARY:Trivia
DESCRIPTION:
URL:https://bonsaibrewery.com/event/trivia-every-wednesday/2029-01-03/
LOCATION:Bonsai Brewery\, 549 Wisconsin Ave\, Whitefish\, MT\, United States\, 59937\, Whitefish\, MT\, 59937\, United States
ATTACH;FMTTYPE=image/jpeg:https://bonsaibrewery.com/wp-content/uploads/2026/04/trivia.jpg
END:VEVENT
BEGIN:VEVENT
DTSTART;TZID=America/Denver:20290110T180000
DTEND;TZID=America/Denver:20290110T200000
DTSTAMP:20260425T100205
CREATED:20260414T173200Z
LAST-MODIFIED:20260414T173305Z
UID:10000162-1862762400-1862769600@bonsaibrewery.com
SUMMARY:Trivia
DESCRIPTION:
URL:https://bonsaibrewery.com/event/trivia-every-wednesday/2029-01-10/
LOCATION:Bonsai Brewery\, 549 Wisconsin Ave\, Whitefish\, MT\, United States\, 59937\, Whitefish\, MT\, 59937\, United States
ATTACH;FMTTYPE=image/jpeg:https://bonsaibrewery.com/wp-content/uploads/2026/04/trivia.jpg
END:VEVENT
BEGIN:VEVENT
DTSTART;TZID=America/Denver:20290117T180000
DTEND;TZID=America/Denver:20290117T200000
DTSTAMP:20260425T100205
CREATED:20260414T173200Z
LAST-MODIFIED:20260414T173305Z
UID:10000163-1863367200-1863374400@bonsaibrewery.com
SUMMARY:Trivia
DESCRIPTION:
URL:https://bonsaibrewery.com/event/trivia-every-wednesday/2029-01-17/
LOCATION:Bonsai Brewery\, 549 Wisconsin Ave\, Whitefish\, MT\, United States\, 59937\, Whitefish\, MT\, 59937\, United States
ATTACH;FMTTYPE=image/jpeg:https://bonsaibrewery.com/wp-content/uploads/2026/04/trivia.jpg
END:VEVENT
BEGIN:VEVENT
DTSTART;TZID=America/Denver:20290124T180000
DTEND;TZID=America/Denver:20290124T200000
DTSTAMP:20260425T100205
CREATED:20260414T173200Z
LAST-MODIFIED:20260414T173305Z
UID:10000164-1863972000-1863979200@bonsaibrewery.com
SUMMARY:Trivia
DESCRIPTION:
URL:https://bonsaibrewery.com/event/trivia-every-wednesday/2029-01-24/
LOCATION:Bonsai Brewery\, 549 Wisconsin Ave\, Whitefish\, MT\, United States\, 59937\, Whitefish\, MT\, 59937\, United States
ATTACH;FMTTYPE=image/jpeg:https://bonsaibrewery.com/wp-content/uploads/2026/04/trivia.jpg
END:VEVENT
BEGIN:VEVENT
DTSTART;TZID=America/Denver:20290131T180000
DTEND;TZID=America/Denver:20290131T200000
DTSTAMP:20260425T100205
CREATED:20260414T173200Z
LAST-MODIFIED:20260414T173305Z
UID:10000165-1864576800-1864584000@bonsaibrewery.com
SUMMARY:Trivia
DESCRIPTION:
URL:https://bonsaibrewery.com/event/trivia-every-wednesday/2029-01-31/
LOCATION:Bonsai Brewery\, 549 Wisconsin Ave\, Whitefish\, MT\, United States\, 59937\, Whitefish\, MT\, 59937\, United States
ATTACH;FMTTYPE=image/jpeg:https://bonsaibrewery.com/wp-content/uploads/2026/04/trivia.jpg
END:VEVENT
BEGIN:VEVENT
DTSTART;TZID=America/Denver:20290207T180000
DTEND;TZID=America/Denver:20290207T200000
DTSTAMP:20260425T100205
CREATED:20260414T173200Z
LAST-MODIFIED:20260414T173305Z
UID:10000166-1865181600-1865188800@bonsaibrewery.com
SUMMARY:Trivia
DESCRIPTION:
URL:https://bonsaibrewery.com/event/trivia-every-wednesday/2029-02-07/
LOCATION:Bonsai Brewery\, 549 Wisconsin Ave\, Whitefish\, MT\, United States\, 59937\, Whitefish\, MT\, 59937\, United States
ATTACH;FMTTYPE=image/jpeg:https://bonsaibrewery.com/wp-content/uploads/2026/04/trivia.jpg
END:VEVENT
BEGIN:VEVENT
DTSTART;TZID=America/Denver:20290214T180000
DTEND;TZID=America/Denver:20290214T200000
DTSTAMP:20260425T100205
CREATED:20260414T173200Z
LAST-MODIFIED:20260414T173305Z
UID:10000167-1865786400-1865793600@bonsaibrewery.com
SUMMARY:Trivia
DESCRIPTION:
URL:https://bonsaibrewery.com/event/trivia-every-wednesday/2029-02-14/
LOCATION:Bonsai Brewery\, 549 Wisconsin Ave\, Whitefish\, MT\, United States\, 59937\, Whitefish\, MT\, 59937\, United States
ATTACH;FMTTYPE=image/jpeg:https://bonsaibrewery.com/wp-content/uploads/2026/04/trivia.jpg
END:VEVENT
BEGIN:VEVENT
DTSTART;TZID=America/Denver:20290221T180000
DTEND;TZID=America/Denver:20290221T200000
DTSTAMP:20260425T100205
CREATED:20260414T173200Z
LAST-MODIFIED:20260414T173305Z
UID:10000168-1866391200-1866398400@bonsaibrewery.com
SUMMARY:Trivia
DESCRIPTION:
URL:https://bonsaibrewery.com/event/trivia-every-wednesday/2029-02-21/
LOCATION:Bonsai Brewery\, 549 Wisconsin Ave\, Whitefish\, MT\, United States\, 59937\, Whitefish\, MT\, 59937\, United States
ATTACH;FMTTYPE=image/jpeg:https://bonsaibrewery.com/wp-content/uploads/2026/04/trivia.jpg
END:VEVENT
BEGIN:VEVENT
DTSTART;TZID=America/Denver:20290228T180000
DTEND;TZID=America/Denver:20290228T200000
DTSTAMP:20260425T100205
CREATED:20260414T173200Z
LAST-MODIFIED:20260414T173305Z
UID:10000169-1866996000-1867003200@bonsaibrewery.com
SUMMARY:Trivia
DESCRIPTION:
URL:https://bonsaibrewery.com/event/trivia-every-wednesday/2029-02-28/
LOCATION:Bonsai Brewery\, 549 Wisconsin Ave\, Whitefish\, MT\, United States\, 59937\, Whitefish\, MT\, 59937\, United States
ATTACH;FMTTYPE=image/jpeg:https://bonsaibrewery.com/wp-content/uploads/2026/04/trivia.jpg
END:VEVENT
BEGIN:VEVENT
DTSTART;TZID=America/Denver:20290307T180000
DTEND;TZID=America/Denver:20290307T200000
DTSTAMP:20260425T100205
CREATED:20260414T173200Z
LAST-MODIFIED:20260414T173305Z
UID:10000170-1867600800-1867608000@bonsaibrewery.com
SUMMARY:Trivia
DESCRIPTION:
URL:https://bonsaibrewery.com/event/trivia-every-wednesday/2029-03-07/
LOCATION:Bonsai Brewery\, 549 Wisconsin Ave\, Whitefish\, MT\, United States\, 59937\, Whitefish\, MT\, 59937\, United States
ATTACH;FMTTYPE=image/jpeg:https://bonsaibrewery.com/wp-content/uploads/2026/04/trivia.jpg
END:VEVENT
BEGIN:VEVENT
DTSTART;TZID=America/Denver:20290314T180000
DTEND;TZID=America/Denver:20290314T200000
DTSTAMP:20260425T100205
CREATED:20260414T173200Z
LAST-MODIFIED:20260414T173305Z
UID:10000171-1868205600-1868212800@bonsaibrewery.com
SUMMARY:Trivia
DESCRIPTION:
URL:https://bonsaibrewery.com/event/trivia-every-wednesday/2029-03-14/
LOCATION:Bonsai Brewery\, 549 Wisconsin Ave\, Whitefish\, MT\, United States\, 59937\, Whitefish\, MT\, 59937\, United States
ATTACH;FMTTYPE=image/jpeg:https://bonsaibrewery.com/wp-content/uploads/2026/04/trivia.jpg
END:VEVENT
BEGIN:VEVENT
DTSTART;TZID=America/Denver:20290321T180000
DTEND;TZID=America/Denver:20290321T200000
DTSTAMP:20260425T100205
CREATED:20260414T173200Z
LAST-MODIFIED:20260414T173305Z
UID:10000172-1868810400-1868817600@bonsaibrewery.com
SUMMARY:Trivia
DESCRIPTION:
URL:https://bonsaibrewery.com/event/trivia-every-wednesday/2029-03-21/
LOCATION:Bonsai Brewery\, 549 Wisconsin Ave\, Whitefish\, MT\, United States\, 59937\, Whitefish\, MT\, 59937\, United States
ATTACH;FMTTYPE=image/jpeg:https://bonsaibrewery.com/wp-content/uploads/2026/04/trivia.jpg
END:VEVENT
BEGIN:VEVENT
DTSTART;TZID=America/Denver:20290328T180000
DTEND;TZID=America/Denver:20290328T200000
DTSTAMP:20260425T100205
CREATED:20260414T173200Z
LAST-MODIFIED:20260414T173305Z
UID:10000173-1869415200-1869422400@bonsaibrewery.com
SUMMARY:Trivia
DESCRIPTION:
URL:https://bonsaibrewery.com/event/trivia-every-wednesday/2029-03-28/
LOCATION:Bonsai Brewery\, 549 Wisconsin Ave\, Whitefish\, MT\, United States\, 59937\, Whitefish\, MT\, 59937\, United States
ATTACH;FMTTYPE=image/jpeg:https://bonsaibrewery.com/wp-content/uploads/2026/04/trivia.jpg
END:VEVENT
BEGIN:VEVENT
DTSTART;TZID=America/Denver:20290404T180000
DTEND;TZID=America/Denver:20290404T200000
DTSTAMP:20260425T100205
CREATED:20260414T173200Z
LAST-MODIFIED:20260414T173305Z
UID:10000174-1870020000-1870027200@bonsaibrewery.com
SUMMARY:Trivia
DESCRIPTION:
URL:https://bonsaibrewery.com/event/trivia-every-wednesday/2029-04-04/
LOCATION:Bonsai Brewery\, 549 Wisconsin Ave\, Whitefish\, MT\, United States\, 59937\, Whitefish\, MT\, 59937\, United States
ATTACH;FMTTYPE=image/jpeg:https://bonsaibrewery.com/wp-content/uploads/2026/04/trivia.jpg
END:VEVENT
BEGIN:VEVENT
DTSTART;TZID=America/Denver:20290411T180000
DTEND;TZID=America/Denver:20290411T200000
DTSTAMP:20260425T100205
CREATED:20260414T173200Z
LAST-MODIFIED:20260414T173305Z
UID:10000175-1870624800-1870632000@bonsaibrewery.com
SUMMARY:Trivia
DESCRIPTION:
URL:https://bonsaibrewery.com/event/trivia-every-wednesday/2029-04-11/
LOCATION:Bonsai Brewery\, 549 Wisconsin Ave\, Whitefish\, MT\, United States\, 59937\, Whitefish\, MT\, 59937\, United States
ATTACH;FMTTYPE=image/jpeg:https://bonsaibrewery.com/wp-content/uploads/2026/04/trivia.jpg
END:VEVENT
BEGIN:VEVENT
DTSTART;TZID=America/Denver:20290418T180000
DTEND;TZID=America/Denver:20290418T200000
DTSTAMP:20260425T100205
CREATED:20260414T173200Z
LAST-MODIFIED:20260414T173305Z
UID:10000176-1871229600-1871236800@bonsaibrewery.com
SUMMARY:Trivia
DESCRIPTION:
URL:https://bonsaibrewery.com/event/trivia-every-wednesday/2029-04-18/
LOCATION:Bonsai Brewery\, 549 Wisconsin Ave\, Whitefish\, MT\, United States\, 59937\, Whitefish\, MT\, 59937\, United States
ATTACH;FMTTYPE=image/jpeg:https://bonsaibrewery.com/wp-content/uploads/2026/04/trivia.jpg
END:VEVENT
BEGIN:VEVENT
DTSTART;TZID=America/Denver:20290425T180000
DTEND;TZID=America/Denver:20290425T200000
DTSTAMP:20260425T100205
CREATED:20260414T173200Z
LAST-MODIFIED:20260414T173305Z
UID:10000177-1871834400-1871841600@bonsaibrewery.com
SUMMARY:Trivia
DESCRIPTION:
URL:https://bonsaibrewery.com/event/trivia-every-wednesday/2029-04-25/
LOCATION:Bonsai Brewery\, 549 Wisconsin Ave\, Whitefish\, MT\, United States\, 59937\, Whitefish\, MT\, 59937\, United States
ATTACH;FMTTYPE=image/jpeg:https://bonsaibrewery.com/wp-content/uploads/2026/04/trivia.jpg
END:VEVENT
BEGIN:VEVENT
DTSTART;TZID=America/Denver:20290502T180000
DTEND;TZID=America/Denver:20290502T200000
DTSTAMP:20260425T100205
CREATED:20260414T173200Z
LAST-MODIFIED:20260414T173305Z
UID:10000178-1872439200-1872446400@bonsaibrewery.com
SUMMARY:Trivia
DESCRIPTION:
URL:https://bonsaibrewery.com/event/trivia-every-wednesday/2029-05-02/
LOCATION:Bonsai Brewery\, 549 Wisconsin Ave\, Whitefish\, MT\, United States\, 59937\, Whitefish\, MT\, 59937\, United States
ATTACH;FMTTYPE=image/jpeg:https://bonsaibrewery.com/wp-content/uploads/2026/04/trivia.jpg
END:VEVENT
BEGIN:VEVENT
DTSTART;TZID=America/Denver:20290509T180000
DTEND;TZID=America/Denver:20290509T200000
DTSTAMP:20260425T100205
CREATED:20260414T173200Z
LAST-MODIFIED:20260414T173305Z
UID:10000179-1873044000-1873051200@bonsaibrewery.com
SUMMARY:Trivia
DESCRIPTION:
URL:https://bonsaibrewery.com/event/trivia-every-wednesday/2029-05-09/
LOCATION:Bonsai Brewery\, 549 Wisconsin Ave\, Whitefish\, MT\, United States\, 59937\, Whitefish\, MT\, 59937\, United States
ATTACH;FMTTYPE=image/jpeg:https://bonsaibrewery.com/wp-content/uploads/2026/04/trivia.jpg
END:VEVENT
BEGIN:VEVENT
DTSTART;TZID=America/Denver:20290516T180000
DTEND;TZID=America/Denver:20290516T200000
DTSTAMP:20260425T100205
CREATED:20260414T173200Z
LAST-MODIFIED:20260414T173305Z
UID:10000180-1873648800-1873656000@bonsaibrewery.com
SUMMARY:Trivia
DESCRIPTION:
URL:https://bonsaibrewery.com/event/trivia-every-wednesday/2029-05-16/
LOCATION:Bonsai Brewery\, 549 Wisconsin Ave\, Whitefish\, MT\, United States\, 59937\, Whitefish\, MT\, 59937\, United States
ATTACH;FMTTYPE=image/jpeg:https://bonsaibrewery.com/wp-content/uploads/2026/04/trivia.jpg
END:VEVENT
BEGIN:VEVENT
DTSTART;TZID=America/Denver:20290523T180000
DTEND;TZID=America/Denver:20290523T200000
DTSTAMP:20260425T100205
CREATED:20260414T173200Z
LAST-MODIFIED:20260414T173305Z
UID:10000181-1874253600-1874260800@bonsaibrewery.com
SUMMARY:Trivia
DESCRIPTION:
URL:https://bonsaibrewery.com/event/trivia-every-wednesday/2029-05-23/
LOCATION:Bonsai Brewery\, 549 Wisconsin Ave\, Whitefish\, MT\, United States\, 59937\, Whitefish\, MT\, 59937\, United States
ATTACH;FMTTYPE=image/jpeg:https://bonsaibrewery.com/wp-content/uploads/2026/04/trivia.jpg
END:VEVENT
BEGIN:VEVENT
DTSTART;TZID=America/Denver:20290530T180000
DTEND;TZID=America/Denver:20290530T200000
DTSTAMP:20260425T100205
CREATED:20260414T173200Z
LAST-MODIFIED:20260414T173305Z
UID:10000182-1874858400-1874865600@bonsaibrewery.com
SUMMARY:Trivia
DESCRIPTION:
URL:https://bonsaibrewery.com/event/trivia-every-wednesday/2029-05-30/
LOCATION:Bonsai Brewery\, 549 Wisconsin Ave\, Whitefish\, MT\, United States\, 59937\, Whitefish\, MT\, 59937\, United States
ATTACH;FMTTYPE=image/jpeg:https://bonsaibrewery.com/wp-content/uploads/2026/04/trivia.jpg
END:VEVENT
BEGIN:VEVENT
DTSTART;TZID=America/Denver:20290606T180000
DTEND;TZID=America/Denver:20290606T200000
DTSTAMP:20260425T100205
CREATED:20260414T173200Z
LAST-MODIFIED:20260414T173305Z
UID:10000183-1875463200-1875470400@bonsaibrewery.com
SUMMARY:Trivia
DESCRIPTION:
URL:https://bonsaibrewery.com/event/trivia-every-wednesday/2029-06-06/
LOCATION:Bonsai Brewery\, 549 Wisconsin Ave\, Whitefish\, MT\, United States\, 59937\, Whitefish\, MT\, 59937\, United States
ATTACH;FMTTYPE=image/jpeg:https://bonsaibrewery.com/wp-content/uploads/2026/04/trivia.jpg
END:VEVENT
END:VCALENDAR